BEGIN:VCALENDAR
VERSION:2.0
PRODID:-//Adamas ry - ECPv6.15.16//NONSGML v1.0//EN
CALSCALE:GREGORIAN
METHOD:PUBLISH
X-ORIGINAL-URL:https://www.adamas.fi
X-WR-CALDESC:Tapahtumat Adamas ry
REFRESH-INTERVAL;VALUE=DURATION:PT1H
X-Robots-Tag:noindex
X-PUBLISHED-TTL:PT1H
BEGIN:VTIMEZONE
TZID:Europe/Helsinki
BEGIN:DAYLIGHT
TZOFFSETFROM:+0200
TZOFFSETTO:+0300
TZNAME:EEST
DTSTART:20250330T010000
END:DAYLIGHT
BEGIN:STANDARD
TZOFFSETFROM:+0300
TZOFFSETTO:+0200
TZNAME:EET
DTSTART:20251026T010000
END:STANDARD
BEGIN:DAYLIGHT
TZOFFSETFROM:+0200
TZOFFSETTO:+0300
TZNAME:EEST
DTSTART:20260329T010000
END:DAYLIGHT
BEGIN:STANDARD
TZOFFSETFROM:+0300
TZOFFSETTO:+0200
TZNAME:EET
DTSTART:20261025T010000
END:STANDARD
BEGIN:DAYLIGHT
TZOFFSETFROM:+0200
TZOFFSETTO:+0300
TZNAME:EEST
DTSTART:20270328T010000
END:DAYLIGHT
BEGIN:STANDARD
TZOFFSETFROM:+0300
TZOFFSETTO:+0200
TZNAME:EET
DTSTART:20271031T010000
END:STANDARD
END:VTIMEZONE
BEGIN:VEVENT
DTSTART;TZID=Europe/Helsinki:20260217T193000
DTEND;TZID=Europe/Helsinki:20260217T210000
DTSTAMP:20260422T190417
CREATED:20260113T201451Z
LAST-MODIFIED:20260210T114955Z
UID:1646-1771356600-1771362000@www.adamas.fi
SUMMARY:Taekwondo-lajikokeilu [Taekwondo trial]
DESCRIPTION:Kaipaako kehosi ja mielesi vielä herättelyä loman jäljiltä? Tule mukaan Adamaksen taekwondo-lajikokeiluun tiistaina 3.2. klo 17–19 Liikuntakeskus Alfaan!\n\nLajikokeilussa saat ajatukset ja kehon liikkeelle sekä pääset samalla tutustumaan taekwondon perusteisiin. Lajikokeilun hinta on 3 € ja mukaan mahtuu 20 ensimmäistä osallistujaa. Tarvitset vain liikuntavaatteet\, vesipullon ja iloista treenimieltä!\n\nIlmoittautuminen sulkeutuu sunnuntaina 1.2. klo 23.59. Ilmoittaudu tästä. Maksuohjeet lähetetään ilmoittautuneille sähköpostitse. Huomioithan\, että ilmoittautuminen on sitova!\n\nMikäli herää jotakin kysyttävää\, voit olla yhteydessä Viljamiin (Telegram: @Veljamis / sähköposti: vssoin@utu.fi).\n\n\n\n\n\n\n\n\n\n\n\n\n\n\n\n\n\n\n\n\n\n\n\n\n\n\n\n\n\n\n\n\n\n\n\n\nTL;DR\nMITÄ? Taekwondo-lajikokeilu\nMISSÄ? Liikuntakeskus Alfa\, Raunistulantie 16\, Turku\nMILLON? 3.2. klo 17-19\nMITÄ MAKSAA? 3€\n\n\n\n\n\n\n\n\n\n\n\n\n\n\n\n\n\n\n\n\n\nDo your body and mind need a wake-up after the holidays? Join Adamas’ taekwondo sport trial on Tuesday\, February 3rd from 5-7 PM at Liikuntakeskus Alfa!\n\nDuring the trial you’ll get your body and mind moving while learning the basics of taekwondo. The trial costs 3€ and spots are available for the first 20 participants. All you need is sportswear\, a water bottle and a positive training spirit!\n\nRegistration closes on Sunday\, February 1st at 11:59 PM. Register here. Payment instructions will be sent by email to registered participants. Please note that registration is binding!\n\nIf you have any questions\, feel free to contact Viljami (Telegram: @Veljamis / E-mail vssoin@utu.fi)\n\n\n\n\n\n\n\n\n\n\n\n\n\n\n\n\n\n\n\n\nTL;DR:\nWHAT? Taekwondo sport trial\nWHERE? Liikuntakeskus Alfa\, Raunistulantie 16\, Turku\nWHEN? February 3rd\, 5-7 PM\nHOW MUCH? 3€
URL:https://www.adamas.fi/tapahtuma/taekwondo-lajikokeilu-taekwondo-trial/
LOCATION:Liikuntakeskus Alfa\, Raunistulantie 15\, Turku\, 20300\, Finland
END:VEVENT
END:VCALENDAR