BEGIN:VCALENDAR
VERSION:2.0
PRODID:-//Adamas ry - ECPv6.15.16//NONSGML v1.0//EN
CALSCALE:GREGORIAN
METHOD:PUBLISH
X-ORIGINAL-URL:https://www.adamas.fi
X-WR-CALDESC:Tapahtumat Adamas ry
REFRESH-INTERVAL;VALUE=DURATION:PT1H
X-Robots-Tag:noindex
X-PUBLISHED-TTL:PT1H
BEGIN:VTIMEZONE
TZID:Europe/Helsinki
BEGIN:DAYLIGHT
TZOFFSETFROM:+0200
TZOFFSETTO:+0300
TZNAME:EEST
DTSTART:20250330T010000
END:DAYLIGHT
BEGIN:STANDARD
TZOFFSETFROM:+0300
TZOFFSETTO:+0200
TZNAME:EET
DTSTART:20251026T010000
END:STANDARD
BEGIN:DAYLIGHT
TZOFFSETFROM:+0200
TZOFFSETTO:+0300
TZNAME:EEST
DTSTART:20260329T010000
END:DAYLIGHT
BEGIN:STANDARD
TZOFFSETFROM:+0300
TZOFFSETTO:+0200
TZNAME:EET
DTSTART:20261025T010000
END:STANDARD
BEGIN:DAYLIGHT
TZOFFSETFROM:+0200
TZOFFSETTO:+0300
TZNAME:EEST
DTSTART:20270328T010000
END:DAYLIGHT
BEGIN:STANDARD
TZOFFSETFROM:+0300
TZOFFSETTO:+0200
TZNAME:EET
DTSTART:20271031T010000
END:STANDARD
END:VTIMEZONE
BEGIN:VEVENT
DTSTART;TZID=Europe/Helsinki:20260311T110000
DTEND;TZID=Europe/Helsinki:20260311T130000
DTSTAMP:20260420T071059
CREATED:20260309T133012Z
LAST-MODIFIED:20260309T133012Z
UID:1794-1773226800-1773234000@www.adamas.fi
SUMMARY:Kiltispäivystys [Office hours]
DESCRIPTION:
URL:https://www.adamas.fi/tapahtuma/kiltispaivystys-office-hours-10/
LOCATION:Kiltahuone (KooMa)
END:VEVENT
BEGIN:VEVENT
DTSTART;TZID=Europe/Helsinki:20260311T110000
DTEND;TZID=Europe/Helsinki:20260311T130000
DTSTAMP:20260420T071059
CREATED:20260310T164649Z
LAST-MODIFIED:20260310T164649Z
UID:1811-1773226800-1773234000@www.adamas.fi
SUMMARY:Hallituksen kokous [Board meeting]
DESCRIPTION:
URL:https://www.adamas.fi/tapahtuma/hallituksen-kokous-board-meeting-32/
LOCATION:Kiltahuone (KooMa)
END:VEVENT
BEGIN:VEVENT
DTSTART;TZID=Europe/Helsinki:20260311T180000
DTEND;TZID=Europe/Helsinki:20260311T190000
DTSTAMP:20260420T071059
CREATED:20260309T133151Z
LAST-MODIFIED:20260309T133151Z
UID:1796-1773252000-1773255600@www.adamas.fi
SUMMARY:Juoksukerho [Running club]
DESCRIPTION:
URL:https://www.adamas.fi/tapahtuma/juoksukerho-running-club-5/
LOCATION:Educarium ja Publicum\, Assistentinkatu 5\, Turku\, 20500\, Finland
END:VEVENT
END:VCALENDAR