BEGIN:VCALENDAR
VERSION:2.0
PRODID:-//Adamas ry - ECPv6.15.16//NONSGML v1.0//EN
CALSCALE:GREGORIAN
METHOD:PUBLISH
X-WR-CALNAME:Adamas ry
X-ORIGINAL-URL:https://www.adamas.fi
X-WR-CALDESC:Tapahtumat Adamas ry
REFRESH-INTERVAL;VALUE=DURATION:PT1H
X-Robots-Tag:noindex
X-PUBLISHED-TTL:PT1H
BEGIN:VTIMEZONE
TZID:Europe/Helsinki
BEGIN:DAYLIGHT
TZOFFSETFROM:+0200
TZOFFSETTO:+0300
TZNAME:EEST
DTSTART:20250330T010000
END:DAYLIGHT
BEGIN:STANDARD
TZOFFSETFROM:+0300
TZOFFSETTO:+0200
TZNAME:EET
DTSTART:20251026T010000
END:STANDARD
BEGIN:DAYLIGHT
TZOFFSETFROM:+0200
TZOFFSETTO:+0300
TZNAME:EEST
DTSTART:20260329T010000
END:DAYLIGHT
BEGIN:STANDARD
TZOFFSETFROM:+0300
TZOFFSETTO:+0200
TZNAME:EET
DTSTART:20261025T010000
END:STANDARD
BEGIN:DAYLIGHT
TZOFFSETFROM:+0200
TZOFFSETTO:+0300
TZNAME:EEST
DTSTART:20270328T010000
END:DAYLIGHT
BEGIN:STANDARD
TZOFFSETFROM:+0300
TZOFFSETTO:+0200
TZNAME:EET
DTSTART:20271031T010000
END:STANDARD
END:VTIMEZONE
BEGIN:VEVENT
DTSTART;TZID=Europe/Helsinki:20260202T140000
DTEND;TZID=Europe/Helsinki:20260202T160000
DTSTAMP:20260422T174114
CREATED:20260202T002551Z
LAST-MODIFIED:20260202T002551Z
UID:1685-1770040800-1770048000@www.adamas.fi
SUMMARY:Hallituksen kokous [Board Meeting]
DESCRIPTION:
URL:https://www.adamas.fi/tapahtuma/hallituksen-kokous-board-meeting-29/
LOCATION:Kiltahuone (KooMa)
END:VEVENT
BEGIN:VEVENT
DTSTART;TZID=Europe/Helsinki:20260204T110000
DTEND;TZID=Europe/Helsinki:20260204T130000
DTSTAMP:20260422T174114
CREATED:20260202T002517Z
LAST-MODIFIED:20260202T002517Z
UID:1683-1770202800-1770210000@www.adamas.fi
SUMMARY:Kiltispäivystys [Office Hours]
DESCRIPTION:
URL:https://www.adamas.fi/tapahtuma/kiltispaivystys-office-hours-6/
LOCATION:Kiltahuone (KooMa)
END:VEVENT
BEGIN:VEVENT
DTSTART;TZID=Europe/Helsinki:20260204T180000
DTEND;TZID=Europe/Helsinki:20260204T220000
DTSTAMP:20260422T174114
CREATED:20260113T201846Z
LAST-MODIFIED:20260126T012030Z
UID:1649-1770228000-1770242400@www.adamas.fi
SUMMARY:Adamas x Machina Supersankari-sitsit [Superhero sitz]
DESCRIPTION:Onko se lintu? Onko se lentokone? No ei\, sehän on supersankari-sitsit!\n\nKeskiviikkona 4.2. viisivuotiaat killat yhdistävät voimansa sitsien merkeissä\, ja mikä onkaan viisivuotiaalle siistimpää kuin supersankarit? Päivän pelastaa kolmen ruokalajin sitsimenu kolmen shotin ja haalarimerkin kera hintaan 16€.\n\nLaita siis naamio päähäsi ja suuntaa viitta hulmuten Q-talolle osoittamaan supervoimasi sitsipöydässä! Paras asu palkitaan.\n\nIlmoittautuminen alkaa 16.1. klo 18 ja sulkeutuu 28.1. klo 18. Ilmoittaudu tästä.\n\n\n\n\n\n\n\n\n\n\n\n\n\n\n\n\n\n\n\n\n\n\n\n\n\n\n\n\n\n\n\n\n\n\n\n\n\nTL;DR\n\nMITÄ? Supersankarisitsit\nMISSÄ? Q-talolla\, Nummenpuistonkatu 2\nMILLOIN? 4.2. klo 18\nMITÄ MAKSAA? 16€\nPUKUKOODI? Parhaat supersankarivermeesi / 5v-synttärit / haalarit\nMIKSI? Koska sitsikansa tarvitsee supersankareita!\n\n\n\n\n\n\n\n\n\n\n\n\n\n\n\n\n\n\n\n\n\nIs it a bird? Is it a plane? No\, it’s superhero sitz!\n\nThe 5-year-old guilds will join forces in the form of a sitz\, and what is cooler to a 5-year-old than superheroes? A three-course meal including three shots and a patch will save the day for 16€.\n\nPut on your mask and let your cape flow in the wind as you head to Q-talo to show your superpowers at the sitz table! The best outfit will win a prize.\n\nRegistration opens 16.1. at 18 and closes 28.1. at 18. Register here.\n\n\n\n\n\n\n\n\n\n\n\n\n\n\n\n\n\n\n\n\nTL;DR\n\nWHAT? Superhero sitz\nWHERE? Q-talo\, Nummenpuistonkatu 2\nWHEN? February 4th at 18\nHOW MUCH? 16€\nDRESS CODE? Your finest superhero uniform / 5th birthday / overalls\nWHY? Because the sitz folk need a superhero!
URL:https://www.adamas.fi/tapahtuma/adamas-x-machina-supersankari-sitsit-superhero-sitz/
LOCATION:Q-talo\, Nummenpuistokatu 2\, Turku\, 20540\, Suomi
END:VEVENT
BEGIN:VEVENT
DTSTART;TZID=Europe/Helsinki:20260205T170000
DTEND;TZID=Europe/Helsinki:20260205T200000
DTSTAMP:20260422T174114
CREATED:20260126T012200Z
LAST-MODIFIED:20260126T012200Z
UID:1659-1770310800-1770321600@www.adamas.fi
SUMMARY:Kyykkämittelöt [Kyykkä Tournament]
DESCRIPTION:
URL:https://www.adamas.fi/tapahtuma/kyykkamittelot-kyykka-tournament/
LOCATION:Educariumin kenttä\, Assistentinkatu 5\, Turku\, 20500\, Suomi
END:VEVENT
BEGIN:VEVENT
DTSTART;TZID=Europe/Helsinki:20260205T220000
DTEND;TZID=Europe/Helsinki:20260206T040000
DTSTAMP:20260422T174114
CREATED:20260126T012420Z
LAST-MODIFIED:20260126T012420Z
UID:1661-1770328800-1770350400@www.adamas.fi
SUMMARY:Haukibileet [Pike Party]
DESCRIPTION:
URL:https://www.adamas.fi/tapahtuma/haukibileet-pike-party/
LOCATION:Nightclub Vegas\, Eerikinkatu 19\, Turku\, 20100\, Suomi
END:VEVENT
BEGIN:VEVENT
DTSTART;TZID=Europe/Helsinki:20260211T100000
DTEND;TZID=Europe/Helsinki:20260211T120000
DTSTAMP:20260422T174114
CREATED:20260210T115901Z
LAST-MODIFIED:20260210T115901Z
UID:1699-1770804000-1770811200@www.adamas.fi
SUMMARY:Hallituksen kokous [Board Meeting]
DESCRIPTION:
URL:https://www.adamas.fi/tapahtuma/hallituksen-kokous-board-meeting-31/
LOCATION:Kiltahuone (KooMa)
END:VEVENT
BEGIN:VEVENT
DTSTART;TZID=Europe/Helsinki:20260211T110000
DTEND;TZID=Europe/Helsinki:20260211T130000
DTSTAMP:20260422T174114
CREATED:20260210T120035Z
LAST-MODIFIED:20260210T120035Z
UID:1701-1770807600-1770814800@www.adamas.fi
SUMMARY:Kiltispäivystys [Office Hours]
DESCRIPTION:
URL:https://www.adamas.fi/tapahtuma/kiltispaivystys-office-hours-8/
LOCATION:Kiltahuone (KooMa)
END:VEVENT
BEGIN:VEVENT
DTSTART;TZID=Europe/Helsinki:20260217T193000
DTEND;TZID=Europe/Helsinki:20260217T210000
DTSTAMP:20260422T174114
CREATED:20260113T201451Z
LAST-MODIFIED:20260210T114955Z
UID:1646-1771356600-1771362000@www.adamas.fi
SUMMARY:Taekwondo-lajikokeilu [Taekwondo trial]
DESCRIPTION:Kaipaako kehosi ja mielesi vielä herättelyä loman jäljiltä? Tule mukaan Adamaksen taekwondo-lajikokeiluun tiistaina 3.2. klo 17–19 Liikuntakeskus Alfaan!\n\nLajikokeilussa saat ajatukset ja kehon liikkeelle sekä pääset samalla tutustumaan taekwondon perusteisiin. Lajikokeilun hinta on 3 € ja mukaan mahtuu 20 ensimmäistä osallistujaa. Tarvitset vain liikuntavaatteet\, vesipullon ja iloista treenimieltä!\n\nIlmoittautuminen sulkeutuu sunnuntaina 1.2. klo 23.59. Ilmoittaudu tästä. Maksuohjeet lähetetään ilmoittautuneille sähköpostitse. Huomioithan\, että ilmoittautuminen on sitova!\n\nMikäli herää jotakin kysyttävää\, voit olla yhteydessä Viljamiin (Telegram: @Veljamis / sähköposti: vssoin@utu.fi).\n\n\n\n\n\n\n\n\n\n\n\n\n\n\n\n\n\n\n\n\n\n\n\n\n\n\n\n\n\n\n\n\n\n\n\n\nTL;DR\nMITÄ? Taekwondo-lajikokeilu\nMISSÄ? Liikuntakeskus Alfa\, Raunistulantie 16\, Turku\nMILLON? 3.2. klo 17-19\nMITÄ MAKSAA? 3€\n\n\n\n\n\n\n\n\n\n\n\n\n\n\n\n\n\n\n\n\n\nDo your body and mind need a wake-up after the holidays? Join Adamas’ taekwondo sport trial on Tuesday\, February 3rd from 5-7 PM at Liikuntakeskus Alfa!\n\nDuring the trial you’ll get your body and mind moving while learning the basics of taekwondo. The trial costs 3€ and spots are available for the first 20 participants. All you need is sportswear\, a water bottle and a positive training spirit!\n\nRegistration closes on Sunday\, February 1st at 11:59 PM. Register here. Payment instructions will be sent by email to registered participants. Please note that registration is binding!\n\nIf you have any questions\, feel free to contact Viljami (Telegram: @Veljamis / E-mail vssoin@utu.fi)\n\n\n\n\n\n\n\n\n\n\n\n\n\n\n\n\n\n\n\n\nTL;DR:\nWHAT? Taekwondo sport trial\nWHERE? Liikuntakeskus Alfa\, Raunistulantie 16\, Turku\nWHEN? February 3rd\, 5-7 PM\nHOW MUCH? 3€
URL:https://www.adamas.fi/tapahtuma/taekwondo-lajikokeilu-taekwondo-trial/
LOCATION:Liikuntakeskus Alfa\, Raunistulantie 15\, Turku\, 20300\, Finland
END:VEVENT
BEGIN:VEVENT
DTSTART;TZID=Europe/Helsinki:20260218T100000
DTEND;TZID=Europe/Helsinki:20260218T120000
DTSTAMP:20260422T174114
CREATED:20260210T115125Z
LAST-MODIFIED:20260210T115125Z
UID:1688-1771408800-1771416000@www.adamas.fi
SUMMARY:Hallituksen kokous [Board Meeting]
DESCRIPTION:
URL:https://www.adamas.fi/tapahtuma/hallituksen-kokous-board-meeting-30/
LOCATION:Kiltahuone (KooMa)
END:VEVENT
BEGIN:VEVENT
DTSTART;TZID=Europe/Helsinki:20260218T110000
DTEND;TZID=Europe/Helsinki:20260218T130000
DTSTAMP:20260422T174114
CREATED:20260210T115212Z
LAST-MODIFIED:20260210T115212Z
UID:1690-1771412400-1771419600@www.adamas.fi
SUMMARY:Kiltispäivystys [Office Hours]
DESCRIPTION:
URL:https://www.adamas.fi/tapahtuma/kiltispaivystys-office-hours-7/
LOCATION:Kiltahuone (KooMa)
END:VEVENT
BEGIN:VEVENT
DTSTART;TZID=Europe/Helsinki:20260218T170000
DTEND;TZID=Europe/Helsinki:20260218T200000
DTSTAMP:20260422T174114
CREATED:20260210T115417Z
LAST-MODIFIED:20260210T115417Z
UID:1692-1771434000-1771444800@www.adamas.fi
SUMMARY:Jäynästartti [Jäynä start]
DESCRIPTION:
URL:https://www.adamas.fi/tapahtuma/jaynastartti-jayna-start/
LOCATION:Argentum\, Henrikinkatu 2\, Turku\, 20500\, Finland
END:VEVENT
BEGIN:VEVENT
DTSTART;TZID=Europe/Helsinki:20260218T180000
DTEND;TZID=Europe/Helsinki:20260218T190000
DTSTAMP:20260422T174114
CREATED:20260210T115708Z
LAST-MODIFIED:20260210T115708Z
UID:1695-1771437600-1771441200@www.adamas.fi
SUMMARY:Juoksukerho [Running Club]
DESCRIPTION:
URL:https://www.adamas.fi/tapahtuma/juoksukerho-running-club-3/
LOCATION:Educarium ja Publicum\, Assistentinkatu 5\, Turku\, 20500\, Finland
END:VEVENT
BEGIN:VEVENT
DTSTART;TZID=Europe/Helsinki:20260223T130000
DTEND;TZID=Europe/Helsinki:20260223T150000
DTSTAMP:20260422T174114
CREATED:20260220T100032Z
LAST-MODIFIED:20260220T100032Z
UID:1721-1771851600-1771858800@www.adamas.fi
SUMMARY:Verenluovutustempaus [Blood Donation Event]
DESCRIPTION:
URL:https://www.adamas.fi/tapahtuma/verenluovutustempaus-blood-donation-event-2/
LOCATION:Yliopistonkatu 29 b\, Yliopistonkatu 29 b\, Turku\, 20100\, Finland
END:VEVENT
BEGIN:VEVENT
DTSTART;TZID=Europe/Helsinki:20260223T180000
DTEND;TZID=Europe/Helsinki:20260223T220000
DTSTAMP:20260422T174114
CREATED:20260220T100536Z
LAST-MODIFIED:20260220T100536Z
UID:1723-1771869600-1771884000@www.adamas.fi
SUMMARY:Haalarisauna [Overalls sauna]
DESCRIPTION:Haalarisauna!\n\nHaalarit saapuvat pian – nappaa siis saunakamat sekä uudet haalarit mukaan ja suuntaa TYYn saunalle maanantaina 23.2. klo 18. Illan aikana on pientä ohjelmaa ja rentoa hengailua. Saunominen ei ole pakollista eli paikalle voi myös tulla vain viettämään iltaa.\n\nIllan alku on suunnattu fukseille. Vanhat opiskelijat ovat tervetulleita liittymään seuraan klo 20 alkaen.\n\nTervetuloa nauttimaan löylyistä tai ihan vaan hengailemaan!\n\n\n\n\n\n\n\n\n\n\n\n \n\n\n\n\n\n\n\n\n\n\n\n\n\n\nOveralls sauna!\n\nThe overralls are arriving soon – so grab your sauna gear and brand-new overralls and head to TYY’s sauna on Monday\, February 23rd at 18. The evening will include some light activities and relaxed hanging. Sauna is optional so you’re welcome to just come by and spend the evening with us!\n\nThe beginning of the evening is reserved for the freshmen. Older students are welcome to join from 20 onwards.\n\nCome enjoy the heat or just hang out!
URL:https://www.adamas.fi/tapahtuma/haalarisauna-overalls-sauna-2/
LOCATION:TYY:n sauna\, Rehtorinpellonkatu 4\, Turku\, 20500\, Suomi
END:VEVENT
BEGIN:VEVENT
DTSTART;TZID=Europe/Helsinki:20260224T133000
DTEND;TZID=Europe/Helsinki:20260224T153000
DTSTAMP:20260422T174114
CREATED:20260220T100737Z
LAST-MODIFIED:20260220T101006Z
UID:1727-1771939800-1771947000@www.adamas.fi
SUMMARY:Hallituksen kokous [Board meeting]
DESCRIPTION:
URL:https://www.adamas.fi/tapahtuma/hallituksen-kokous/
LOCATION:Kiltahuone (KooMa)
END:VEVENT
BEGIN:VEVENT
DTSTART;TZID=Europe/Helsinki:20260225T110000
DTEND;TZID=Europe/Helsinki:20260225T130000
DTSTAMP:20260422T174114
CREATED:20260220T100915Z
LAST-MODIFIED:20260220T100915Z
UID:1730-1772017200-1772024400@www.adamas.fi
SUMMARY:Kiltispäivystys [Office hours]
DESCRIPTION:
URL:https://www.adamas.fi/tapahtuma/kiltispaivystys-office-hours-9/
LOCATION:Kiltahuone (KooMa)
END:VEVENT
BEGIN:VEVENT
DTSTART;TZID=Europe/Helsinki:20260225T160000
DTEND;TZID=Europe/Helsinki:20260225T180000
DTSTAMP:20260422T174114
CREATED:20260202T002252Z
LAST-MODIFIED:20260202T002252Z
UID:1681-1772035200-1772042400@www.adamas.fi
SUMMARY:Sivuainemessut [Minor Studies Fair]
DESCRIPTION:
URL:https://www.adamas.fi/tapahtuma/sivuainemessut-minor-studies-fair-2/
LOCATION:Agora XXII\, Vesilinnantie 5\, Turku\, 20014\, Suomi
END:VEVENT
BEGIN:VEVENT
DTSTART;TZID=Europe/Helsinki:20260225T180000
DTEND;TZID=Europe/Helsinki:20260225T190000
DTSTAMP:20260422T174114
CREATED:20260220T101234Z
LAST-MODIFIED:20260220T101234Z
UID:1735-1772042400-1772046000@www.adamas.fi
SUMMARY:Juoksukerho [Running Club]
DESCRIPTION:
URL:https://www.adamas.fi/tapahtuma/juoksukerho-running-club-4/
LOCATION:Educarium ja Publicum\, Assistentinkatu 5\, Turku\, 20500\, Finland
END:VEVENT
END:VCALENDAR